<VRTDataset rasterXSize="623382" rasterYSize="561660">
  <SRS>EPSG:6343</SRS>
  <GeoTransform>  3.2533700000000000e+05,  1.0000000000000000e+00,  0.0000000000000000e+00,  3.4203000000000000e+06,  0.0000000000000000e+00, -1.0000000000000000e+00</GeoTransform>
  <VRTRasterBand dataType="Byte" band="1">
    <NoDataValue>0</NoDataValue>
    <ColorInterp>Gray</ColorInterp>
    <ComplexSource>
      <SourceFilename relativeToVRT="1">../aransas/aransas_hillshade_1m.tif</SourceFilename>
      <SourceBand>1</SourceBand>
      <SourceProperties RasterXSize="45651" RasterYSize="54127" DataType="Byte" BlockXSize="512" BlockYSize="512" />
      <SrcRect xOff="0" yOff="0" xSize="45651" ySize="54127" />
      <DstRect xOff="345662" yOff="285751" xSize="45651" ySize="54127" />
      <NODATA>0</NODATA>
    </ComplexSource>
    <ComplexSource>
      <SourceFilename relativeToVRT="1">../atascosa/atascosa_hillshade_1m.tif</SourceFilename>
      <SourceBand>1</SourceBand>
      <SourceProperties RasterXSize="68998" RasterYSize="70508" DataType="Byte" BlockXSize="512" BlockYSize="512" />
      <SrcRect xOff="0" yOff="0" xSize="68998" ySize="70508" />
      <DstRect xOff="193637" yOff="184544" xSize="68998" ySize="70508" />
      <NODATA>0</NODATA>
    </ComplexSource>
    <ComplexSource>
      <SourceFilename relativeToVRT="1">../austin/austin_hillshade_1m.tif</SourceFilename>
      <SourceBand>1</SourceBand>
      <SourceProperties RasterXSize="60553" RasterYSize="54406" DataType="Byte" BlockXSize="512" BlockYSize="512" />
      <SrcRect xOff="0" yOff="0" xSize="60553" ySize="54406" />
      <DstRect xOff="403931" yOff="87683" xSize="60553" ySize="54406" />
      <NODATA>0</NODATA>
    </ComplexSource>
    <ComplexSource>
      <SourceFilename relativeToVRT="1">../bastrop/bastrop_hillshade_1m.tif</SourceFilename>
      <SourceBand>1</SourceBand>
      <SourceProperties RasterXSize="60254" RasterYSize="70088" DataType="Byte" BlockXSize="512" BlockYSize="512" />
      <SrcRect xOff="0" yOff="0" xSize="60254" ySize="70088" />
      <DstRect xOff="304875" yOff="53892" xSize="60254" ySize="70088" />
      <NODATA>0</NODATA>
    </ComplexSource>
    <ComplexSource>
      <SourceFilename relativeToVRT="1">../bee/bee_hillshade_1m.tif</SourceFilename>
      <SourceBand>1</SourceBand>
      <SourceProperties RasterXSize="70205" RasterYSize="65005" DataType="Byte" BlockXSize="512" BlockYSize="512" />
      <SrcRect xOff="0" yOff="0" xSize="70205" ySize="65005" />
      <DstRect xOff="263611" yOff="242909" xSize="70205" ySize="65005" />
      <NODATA>0</NODATA>
    </ComplexSource>
    <ComplexSource>
      <SourceFilename relativeToVRT="1">../bexar/bexar_hillshade_1m.tif</SourceFilename>
      <SourceBand>1</SourceBand>
      <SourceProperties RasterXSize="66894" RasterYSize="71561" DataType="Byte" BlockXSize="512" BlockYSize="512" />
      <SrcRect xOff="0" yOff="0" xSize="66894" ySize="71561" />
      <DstRect xOff="193383" yOff="127947" xSize="66894" ySize="71561" />
      <NODATA>0</NODATA>
    </ComplexSource>
    <ComplexSource>
      <SourceFilename relativeToVRT="1">../brazoria/brazoria_hillshade_1m.tif</SourceFilename>
      <SourceBand>1</SourceBand>
      <SourceProperties RasterXSize="79660" RasterYSize="86448" DataType="Byte" BlockXSize="512" BlockYSize="512" />
      <SrcRect xOff="0" yOff="0" xSize="79660" ySize="86448" />
      <DstRect xOff="478550" yOff="140291" xSize="79660" ySize="86448" />
      <NODATA>0</NODATA>
    </ComplexSource>
    <ComplexSource>
      <SourceFilename relativeToVRT="1">../brooks/brooks_hillshade_1m.tif</SourceFilename>
      <SourceBand>1</SourceBand>
      <SourceProperties RasterXSize="54989" RasterYSize="53329" DataType="Byte" BlockXSize="512" BlockYSize="512" />
      <SrcRect xOff="0" yOff="0" xSize="54989" ySize="53329" />
      <DstRect xOff="220523" yOff="404400" xSize="54989" ySize="53329" />
      <NODATA>0</NODATA>
    </ComplexSource>
    <ComplexSource>
      <SourceFilename relativeToVRT="1">../caldwell/caldwell_hillshade_1m.tif</SourceFilename>
      <SourceBand>1</SourceBand>
      <SourceProperties RasterXSize="56473" RasterYSize="48765" DataType="Byte" BlockXSize="512" BlockYSize="512" />
      <SrcRect xOff="0" yOff="0" xSize="56473" ySize="48765" />
      <DstRect xOff="280984" yOff="92840" xSize="56473" ySize="48765" />
      <NODATA>0</NODATA>
    </ComplexSource>
    <ComplexSource>
      <SourceFilename relativeToVRT="1">../calhoun/calhoun_hillshade_1m.tif</SourceFilename>
      <SourceBand>1</SourceBand>
      <SourceProperties RasterXSize="59305" RasterYSize="74635" DataType="Byte" BlockXSize="512" BlockYSize="512" />
      <SrcRect xOff="0" yOff="0" xSize="59305" ySize="74635" />
      <DstRect xOff="377072" yOff="239547" xSize="59305" ySize="74635" />
      <NODATA>0</NODATA>
    </ComplexSource>
    <ComplexSource>
      <SourceFilename relativeToVRT="1">../cameron/cameron_hillshade_1m.tif</SourceFilename>
      <SourceBand>1</SourceBand>
      <SourceProperties RasterXSize="72108" RasterYSize="63825" DataType="Byte" BlockXSize="512" BlockYSize="512" />
      <SrcRect xOff="0" yOff="0" xSize="72108" ySize="63825" />
      <DstRect xOff="288228" yOff="497835" xSize="72108" ySize="63825" />
      <NODATA>0</NODATA>
    </ComplexSource>
    <ComplexSource>
      <SourceFilename relativeToVRT="1">../colorado/colorado_hillshade_1m.tif</SourceFilename>
      <SourceBand>1</SourceBand>
      <SourceProperties RasterXSize="67679" RasterYSize="79412" DataType="Byte" BlockXSize="512" BlockYSize="512" />
      <SrcRect xOff="0" yOff="0" xSize="67679" ySize="79412" />
      <DstRect xOff="380459" yOff="103216" xSize="67679" ySize="79412" />
      <NODATA>0</NODATA>
    </ComplexSource>
    <ComplexSource>
      <SourceFilename relativeToVRT="1">../comal/comal_hillshade_1m.tif</SourceFilename>
      <SourceBand>1</SourceBand>
      <SourceProperties RasterXSize="62556" RasterYSize="49159" DataType="Byte" BlockXSize="512" BlockYSize="512" />
      <SrcRect xOff="0" yOff="0" xSize="62556" ySize="49159" />
      <DstRect xOff="208872" yOff="97105" xSize="62556" ySize="49159" />
      <NODATA>0</NODATA>
    </ComplexSource>
    <ComplexSource>
      <SourceFilename relativeToVRT="1">../de_witt/de_witt_hillshade_1m.tif</SourceFilename>
      <SourceBand>1</SourceBand>
      <SourceProperties RasterXSize="75592" RasterYSize="63745" DataType="Byte" BlockXSize="512" BlockYSize="512" />
      <SrcRect xOff="0" yOff="0" xSize="75592" ySize="63745" />
      <DstRect xOff="295962" yOff="168421" xSize="75592" ySize="63745" />
      <NODATA>0</NODATA>
    </ComplexSource>
    <ComplexSource>
      <SourceFilename relativeToVRT="1">../dimmit/dimmit_hillshade_1m.tif</SourceFilename>
      <SourceBand>1</SourceBand>
      <SourceProperties RasterXSize="70617" RasterYSize="49887" DataType="Byte" BlockXSize="512" BlockYSize="512" />
      <SrcRect xOff="0" yOff="0" xSize="70617" ySize="49887" />
      <DstRect xOff="65349" yOff="250791" xSize="70617" ySize="49887" />
      <NODATA>0</NODATA>
    </ComplexSource>
    <ComplexSource>
      <SourceFilename relativeToVRT="1">../duval/duval_hillshade_1m.tif</SourceFilename>
      <SourceBand>1</SourceBand>
      <SourceProperties RasterXSize="56673" RasterYSize="88114" DataType="Byte" BlockXSize="512" BlockYSize="512" />
      <SrcRect xOff="0" yOff="0" xSize="56673" ySize="88114" />
      <DstRect xOff="193985" yOff="316448" xSize="56673" ySize="88114" />
      <NODATA>0</NODATA>
    </ComplexSource>
    <ComplexSource>
      <SourceFilename relativeToVRT="1">../fayette/fayette_hillshade_1m.tif</SourceFilename>
      <SourceBand>1</SourceBand>
      <SourceProperties RasterXSize="71959" RasterYSize="60257" DataType="Byte" BlockXSize="512" BlockYSize="512" />
      <SrcRect xOff="0" yOff="0" xSize="71959" ySize="60257" />
      <DstRect xOff="337264" yOff="81028" xSize="71959" ySize="60257" />
      <NODATA>0</NODATA>
    </ComplexSource>
    <ComplexSource>
      <SourceFilename relativeToVRT="1">../fort_bend/fort_bend_hillshade_1m.tif</SourceFilename>
      <SourceBand>1</SourceBand>
      <SourceProperties RasterXSize="64536" RasterYSize="58386" DataType="Byte" BlockXSize="512" BlockYSize="512" />
      <SrcRect xOff="0" yOff="0" xSize="64536" ySize="58386" />
      <DstRect xOff="456581" yOff="120716" xSize="64536" ySize="58386" />
      <NODATA>0</NODATA>
    </ComplexSource>
    <ComplexSource>
      <SourceFilename relativeToVRT="1">../frio/frio_hillshade_1m.tif</SourceFilename>
      <SourceBand>1</SourceBand>
      <SourceProperties RasterXSize="59743" RasterYSize="49948" DataType="Byte" BlockXSize="512" BlockYSize="512" />
      <SrcRect xOff="0" yOff="0" xSize="59743" ySize="49948" />
      <DstRect xOff="134380" yOff="202127" xSize="59743" ySize="49948" />
      <NODATA>0</NODATA>
    </ComplexSource>
    <ComplexSource>
      <SourceFilename relativeToVRT="1">../galveston/galveston_hillshade_1m.tif</SourceFilename>
      <SourceBand>1</SourceBand>
      <SourceProperties RasterXSize="83346" RasterYSize="59349" DataType="Byte" BlockXSize="512" BlockYSize="512" />
      <SrcRect xOff="0" yOff="0" xSize="83346" ySize="59349" />
      <DstRect xOff="540036" yOff="137154" xSize="83346" ySize="59349" />
      <NODATA>0</NODATA>
    </ComplexSource>
    <ComplexSource>
      <SourceFilename relativeToVRT="1">../goliad/goliad_hillshade_1m.tif</SourceFilename>
      <SourceBand>1</SourceBand>
      <SourceProperties RasterXSize="61241" RasterYSize="59445" DataType="Byte" BlockXSize="512" BlockYSize="512" />
      <SrcRect xOff="0" yOff="0" xSize="61241" ySize="59445" />
      <DstRect xOff="294015" yOff="219530" xSize="61241" ySize="59445" />
      <NODATA>0</NODATA>
    </ComplexSource>
    <ComplexSource>
      <SourceFilename relativeToVRT="1">../gonzales/gonzales_hillshade_1m.tif</SourceFilename>
      <SourceBand>1</SourceBand>
      <SourceProperties RasterXSize="70161" RasterYSize="75095" DataType="Byte" BlockXSize="512" BlockYSize="512" />
      <SrcRect xOff="0" yOff="0" xSize="70161" ySize="75095" />
      <DstRect xOff="285468" yOff="124195" xSize="70161" ySize="75095" />
      <NODATA>0</NODATA>
    </ComplexSource>
    <ComplexSource>
      <SourceFilename relativeToVRT="1">../guadalupe/guadalupe_hillshade_1m.tif</SourceFilename>
      <SourceBand>1</SourceBand>
      <SourceProperties RasterXSize="65897" RasterYSize="54791" DataType="Byte" BlockXSize="512" BlockYSize="512" />
      <SrcRect xOff="0" yOff="0" xSize="65897" ySize="54791" />
      <DstRect xOff="241271" yOff="116709" xSize="65897" ySize="54791" />
      <NODATA>0</NODATA>
    </ComplexSource>
    <ComplexSource>
      <SourceFilename relativeToVRT="1">../harris/harris_hillshade_1m.tif</SourceFilename>
      <SourceBand>1</SourceBand>
      <SourceProperties RasterXSize="102874" RasterYSize="74553" DataType="Byte" BlockXSize="512" BlockYSize="512" />
      <SrcRect xOff="0" yOff="0" xSize="102874" ySize="74553" />
      <DstRect xOff="467371" yOff="76527" xSize="102874" ySize="74553" />
      <NODATA>0</NODATA>
    </ComplexSource>
    <ComplexSource>
      <SourceFilename relativeToVRT="1">../hays/hays_hillshade_1m.tif</SourceFilename>
      <SourceBand>1</SourceBand>
      <SourceProperties RasterXSize="56794" RasterYSize="66778" DataType="Byte" BlockXSize="512" BlockYSize="512" />
      <SrcRect xOff="0" yOff="0" xSize="56794" ySize="66778" />
      <DstRect xOff="242387" yOff="61752" xSize="56794" ySize="66778" />
      <NODATA>0</NODATA>
    </ComplexSource>
    <ComplexSource>
      <SourceFilename relativeToVRT="1">../hidalgo/hidalgo_hillshade_1m.tif</SourceFilename>
      <SourceBand>1</SourceBand>
      <SourceProperties RasterXSize="72565" RasterYSize="82550" DataType="Byte" BlockXSize="512" BlockYSize="512" />
      <SrcRect xOff="0" yOff="0" xSize="72565" ySize="82550" />
      <DstRect xOff="215946" yOff="457706" xSize="72565" ySize="82550" />
      <NODATA>0</NODATA>
    </ComplexSource>
    <ComplexSource>
      <SourceFilename relativeToVRT="1">../jackson/jackson_hillshade_1m.tif</SourceFilename>
      <SourceBand>1</SourceBand>
      <SourceProperties RasterXSize="61588" RasterYSize="64860" DataType="Byte" BlockXSize="512" BlockYSize="512" />
      <SrcRect xOff="0" yOff="0" xSize="61588" ySize="64860" />
      <DstRect xOff="375331" yOff="180750" xSize="61588" ySize="64860" />
      <NODATA>0</NODATA>
    </ComplexSource>
    <ComplexSource>
      <SourceFilename relativeToVRT="1">../jim_hogg/jim_hogg_hillshade_1m.tif</SourceFilename>
      <SourceBand>1</SourceBand>
      <SourceProperties RasterXSize="53225" RasterYSize="63725" DataType="Byte" BlockXSize="512" BlockYSize="512" />
      <SrcRect xOff="0" yOff="0" xSize="53225" ySize="63725" />
      <DstRect xOff="179161" yOff="394014" xSize="53225" ySize="63725" />
      <NODATA>0</NODATA>
    </ComplexSource>
    <ComplexSource>
      <SourceFilename relativeToVRT="1">../jim_wells/jim_wells_hillshade_1m.tif</SourceFilename>
      <SourceBand>1</SourceBand>
      <SourceProperties RasterXSize="43922" RasterYSize="88288" DataType="Byte" BlockXSize="512" BlockYSize="512" />
      <SrcRect xOff="0" yOff="0" xSize="43922" ySize="88288" />
      <DstRect xOff="249795" yOff="316316" xSize="43922" ySize="88288" />
      <NODATA>0</NODATA>
    </ComplexSource>
    <ComplexSource>
      <SourceFilename relativeToVRT="1">../karnes/karnes_hillshade_1m.tif</SourceFilename>
      <SourceBand>1</SourceBand>
      <SourceProperties RasterXSize="60192" RasterYSize="61175" DataType="Byte" BlockXSize="512" BlockYSize="512" />
      <SrcRect xOff="0" yOff="0" xSize="60192" ySize="61175" />
      <DstRect xOff="253555" yOff="187305" xSize="60192" ySize="61175" />
      <NODATA>0</NODATA>
    </ComplexSource>
    <ComplexSource>
      <SourceFilename relativeToVRT="1">../kenedy/kenedy_hillshade_1m.tif</SourceFilename>
      <SourceBand>1</SourceBand>
      <SourceProperties RasterXSize="70037" RasterYSize="76091" DataType="Byte" BlockXSize="512" BlockYSize="512" />
      <SrcRect xOff="0" yOff="0" xSize="70037" ySize="76091" />
      <DstRect xOff="275101" yOff="401802" xSize="70037" ySize="76091" />
      <NODATA>0</NODATA>
    </ComplexSource>
    <ComplexSource>
      <SourceFilename relativeToVRT="1">../kinney/kinney_hillshade_1m.tif</SourceFilename>
      <SourceBand>1</SourceBand>
      <SourceProperties RasterXSize="67003" RasterYSize="60054" DataType="Byte" BlockXSize="512" BlockYSize="512" />
      <SrcRect xOff="0" yOff="0" xSize="67003" ySize="60054" />
      <DstRect xOff="0" yOff="142196" xSize="67003" ySize="60054" />
      <NODATA>0</NODATA>
    </ComplexSource>
    <ComplexSource>
      <SourceFilename relativeToVRT="1">../kleberg/kleberg_hillshade_1m.tif</SourceFilename>
      <SourceBand>1</SourceBand>
      <SourceProperties RasterXSize="82745" RasterYSize="47287" DataType="Byte" BlockXSize="512" BlockYSize="512" />
      <SrcRect xOff="0" yOff="0" xSize="82745" ySize="47287" />
      <DstRect xOff="267415" yOff="362981" xSize="82745" ySize="47287" />
      <NODATA>0</NODATA>
    </ComplexSource>
    <ComplexSource>
      <SourceFilename relativeToVRT="1">../la_salle/la_salle_hillshade_1m.tif</SourceFilename>
      <SourceBand>1</SourceBand>
      <SourceProperties RasterXSize="59456" RasterYSize="68328" DataType="Byte" BlockXSize="512" BlockYSize="512" />
      <SrcRect xOff="0" yOff="0" xSize="59456" ySize="68328" />
      <DstRect xOff="134667" yOff="251342" xSize="59456" ySize="68328" />
      <NODATA>0</NODATA>
    </ComplexSource>
    <ComplexSource>
      <SourceFilename relativeToVRT="1">../lavaca/lavaca_hillshade_1m.tif</SourceFilename>
      <SourceBand>1</SourceBand>
      <SourceProperties RasterXSize="66080" RasterYSize="63266" DataType="Byte" BlockXSize="512" BlockYSize="512" />
      <SrcRect xOff="0" yOff="0" xSize="66080" ySize="63266" />
      <DstRect xOff="345452" yOff="140297" xSize="66080" ySize="63266" />
      <NODATA>0</NODATA>
    </ComplexSource>
    <ComplexSource>
      <SourceFilename relativeToVRT="1">../live_oak/live_oak_hillshade_1m.tif</SourceFilename>
      <SourceBand>1</SourceBand>
      <SourceProperties RasterXSize="51909" RasterYSize="80880" DataType="Byte" BlockXSize="512" BlockYSize="512" />
      <SrcRect xOff="0" yOff="0" xSize="51909" ySize="80880" />
      <DstRect xOff="239673" yOff="235630" xSize="51909" ySize="80880" />
      <NODATA>0</NODATA>
    </ComplexSource>
    <ComplexSource>
      <SourceFilename relativeToVRT="1">../matagorda/matagorda_hillshade_1m.tif</SourceFilename>
      <SourceBand>1</SourceBand>
      <SourceProperties RasterXSize="84197" RasterYSize="94979" DataType="Byte" BlockXSize="512" BlockYSize="512" />
      <SrcRect xOff="0" yOff="0" xSize="84197" ySize="94979" />
      <DstRect xOff="431595" yOff="182807" xSize="84197" ySize="94979" />
      <NODATA>0</NODATA>
    </ComplexSource>
    <ComplexSource>
      <SourceFilename relativeToVRT="1">../maverick/maverick_hillshade_1m.tif</SourceFilename>
      <SourceBand>1</SourceBand>
      <SourceProperties RasterXSize="54139" RasterYSize="98853" DataType="Byte" BlockXSize="512" BlockYSize="512" />
      <SrcRect xOff="0" yOff="0" xSize="54139" ySize="98853" />
      <DstRect xOff="12388" yOff="201844" xSize="54139" ySize="98853" />
      <NODATA>0</NODATA>
    </ComplexSource>
    <ComplexSource>
      <SourceFilename relativeToVRT="1">../mcmullen/mcmullen_hillshade_1m.tif</SourceFilename>
      <SourceBand>1</SourceBand>
      <SourceProperties RasterXSize="46210" RasterYSize="65998" DataType="Byte" BlockXSize="512" BlockYSize="512" />
      <SrcRect xOff="0" yOff="0" xSize="46210" ySize="65998" />
      <DstRect xOff="193870" yOff="250718" xSize="46210" ySize="65998" />
      <NODATA>0</NODATA>
    </ComplexSource>
    <ComplexSource>
      <SourceFilename relativeToVRT="1">../medina/medina_hillshade_1m.tif</SourceFilename>
      <SourceBand>1</SourceBand>
      <SourceProperties RasterXSize="59268" RasterYSize="66765" DataType="Byte" BlockXSize="512" BlockYSize="512" />
      <SrcRect xOff="0" yOff="0" xSize="59268" ySize="66765" />
      <DstRect xOff="134380" yOff="135769" xSize="59268" ySize="66765" />
      <NODATA>0</NODATA>
    </ComplexSource>
    <ComplexSource>
      <SourceFilename relativeToVRT="1">../nueces/nueces_hillshade_1m.tif</SourceFilename>
      <SourceBand>1</SourceBand>
      <SourceProperties RasterXSize="89128" RasterYSize="48484" DataType="Byte" BlockXSize="512" BlockYSize="512" />
      <SrcRect xOff="0" yOff="0" xSize="89128" ySize="48484" />
      <DstRect xOff="279073" yOff="323002" xSize="89128" ySize="48484" />
      <NODATA>0</NODATA>
    </ComplexSource>
    <ComplexSource>
      <SourceFilename relativeToVRT="1">../refugio/refugio_hillshade_1m.tif</SourceFilename>
      <SourceBand>1</SourceBand>
      <SourceProperties RasterXSize="75846" RasterYSize="54779" DataType="Byte" BlockXSize="512" BlockYSize="512" />
      <SrcRect xOff="0" yOff="0" xSize="75846" ySize="54779" />
      <DstRect xOff="317922" yOff="260167" xSize="75846" ySize="54779" />
      <NODATA>0</NODATA>
    </ComplexSource>
    <ComplexSource>
      <SourceFilename relativeToVRT="1">../san_patricio/san_patricio_hillshade_1m.tif</SourceFilename>
      <SourceBand>1</SourceBand>
      <SourceProperties RasterXSize="76225" RasterYSize="39349" DataType="Byte" BlockXSize="512" BlockYSize="512" />
      <SrcRect xOff="0" yOff="0" xSize="76225" ySize="39349" />
      <DstRect xOff="281870" yOff="302286" xSize="76225" ySize="39349" />
      <NODATA>0</NODATA>
    </ComplexSource>
    <ComplexSource>
      <SourceFilename relativeToVRT="1">../starr/starr_hillshade_1m.tif</SourceFilename>
      <SourceBand>1</SourceBand>
      <SourceProperties RasterXSize="84650" RasterYSize="60920" DataType="Byte" BlockXSize="512" BlockYSize="512" />
      <SrcRect xOff="0" yOff="0" xSize="84650" ySize="60920" />
      <DstRect xOff="157538" yOff="457591" xSize="84650" ySize="60920" />
      <NODATA>0</NODATA>
    </ComplexSource>
    <ComplexSource>
      <SourceFilename relativeToVRT="1">../travis/travis_hillshade_1m.tif</SourceFilename>
      <SourceBand>1</SourceBand>
      <SourceProperties RasterXSize="77130" RasterYSize="66769" DataType="Byte" BlockXSize="512" BlockYSize="512" />
      <SrcRect xOff="0" yOff="0" xSize="77130" ySize="66769" />
      <DstRect xOff="254134" yOff="31465" xSize="77130" ySize="66769" />
      <NODATA>0</NODATA>
    </ComplexSource>
    <ComplexSource>
      <SourceFilename relativeToVRT="1">../uvalde/uvalde_hillshade_1m.tif</SourceFilename>
      <SourceBand>1</SourceBand>
      <SourceProperties RasterXSize="68274" RasterYSize="59908" DataType="Byte" BlockXSize="512" BlockYSize="512" />
      <SrcRect xOff="0" yOff="0" xSize="68274" ySize="59908" />
      <DstRect xOff="66526" yOff="142652" xSize="68274" ySize="59908" />
      <NODATA>0</NODATA>
    </ComplexSource>
    <ComplexSource>
      <SourceFilename relativeToVRT="1">../victoria/victoria_hillshade_1m.tif</SourceFilename>
      <SourceBand>1</SourceBand>
      <SourceProperties RasterXSize="65036" RasterYSize="68390" DataType="Byte" BlockXSize="512" BlockYSize="512" />
      <SrcRect xOff="0" yOff="0" xSize="65036" ySize="68390" />
      <DstRect xOff="339900" yOff="199126" xSize="65036" ySize="68390" />
      <NODATA>0</NODATA>
    </ComplexSource>
    <ComplexSource>
      <SourceFilename relativeToVRT="1">../waller/waller_hillshade_1m.tif</SourceFilename>
      <SourceBand>1</SourceBand>
      <SourceProperties RasterXSize="37612" RasterYSize="57964" DataType="Byte" BlockXSize="512" BlockYSize="512" />
      <SrcRect xOff="0" yOff="0" xSize="37612" ySize="57964" />
      <DstRect xOff="445161" yOff="70004" xSize="37612" ySize="57964" />
      <NODATA>0</NODATA>
    </ComplexSource>
    <ComplexSource>
      <SourceFilename relativeToVRT="1">../webb/webb_hillshade_1m.tif</SourceFilename>
      <SourceBand>1</SourceBand>
      <SourceProperties RasterXSize="138975" RasterYSize="104645" DataType="Byte" BlockXSize="512" BlockYSize="512" />
      <SrcRect xOff="0" yOff="0" xSize="138975" ySize="104645" />
      <DstRect xOff="55674" yOff="300372" xSize="138975" ySize="104645" />
      <NODATA>0</NODATA>
    </ComplexSource>
    <ComplexSource>
      <SourceFilename relativeToVRT="1">../wharton/wharton_hillshade_1m.tif</SourceFilename>
      <SourceBand>1</SourceBand>
      <SourceProperties RasterXSize="77376" RasterYSize="74686" DataType="Byte" BlockXSize="512" BlockYSize="512" />
      <SrcRect xOff="0" yOff="0" xSize="77376" ySize="74686" />
      <DstRect xOff="404198" yOff="138741" xSize="77376" ySize="74686" />
      <NODATA>0</NODATA>
    </ComplexSource>
    <ComplexSource>
      <SourceFilename relativeToVRT="1">../willacy/willacy_hillshade_1m.tif</SourceFilename>
      <SourceBand>1</SourceBand>
      <SourceProperties RasterXSize="77888" RasterYSize="34190" DataType="Byte" BlockXSize="512" BlockYSize="512" />
      <SrcRect xOff="0" yOff="0" xSize="77888" ySize="34190" />
      <DstRect xOff="273935" yOff="476448" xSize="77888" ySize="34190" />
      <NODATA>0</NODATA>
    </ComplexSource>
    <ComplexSource>
      <SourceFilename relativeToVRT="1">../williamson/williamson_hillshade_1m.tif</SourceFilename>
      <SourceBand>1</SourceBand>
      <SourceProperties RasterXSize="86068" RasterYSize="55708" DataType="Byte" BlockXSize="512" BlockYSize="512" />
      <SrcRect xOff="0" yOff="0" xSize="86068" ySize="55708" />
      <DstRect xOff="265721" yOff="0" xSize="86068" ySize="55708" />
      <NODATA>0</NODATA>
    </ComplexSource>
    <ComplexSource>
      <SourceFilename relativeToVRT="1">../wilson/wilson_hillshade_1m.tif</SourceFilename>
      <SourceBand>1</SourceBand>
      <SourceProperties RasterXSize="65915" RasterYSize="61690" DataType="Byte" BlockXSize="512" BlockYSize="512" />
      <SrcRect xOff="0" yOff="0" xSize="65915" ySize="61690" />
      <DstRect xOff="232338" yOff="163395" xSize="65915" ySize="61690" />
