0.00262170000000
0.00000000000000
0.00000000000000
-0.00224710000000
-107.24868915000000
36.99887645000000
